BEGIN:VCALENDAR
VERSION:2.0
PRODID:-//ChamberMaster//Event Calendar 2.0//EN
METHOD:PUBLISH
X-PUBLISHED-TTL:P3D
REFRESH-INTERVAL:P3D
CALSCALE:GREGORIAN
BEGIN:VEVENT
DTSTART:20171008T133000Z
DTEND:20171008T160000Z
X-MICROSOFT-CDO-ALLDAYEVENT:FALSE
SUMMARY:Who Needs God?
DESCRIPTION:People are migrating away from religion at an unprecedented rate  Christianity in particular.\n\nOnce upon a time\, people believed religion offered solutions. Today\, many people view religion as the problem.\n\nIn this 6-part message series\, NHF addresses this tension and sets a foundation for faith that will stand up to the rigors of the real world. \n\nCome and explore what it means to you\, at 9:30am or 11:00 Celebrations on Sundays at New Horizons Fellowship. \n\nSunday\, October 1  Atheist 2.0\n\nSunday\, October 8  Gods of the "No" Testament\n\nSunday\, October 15  The Bible Told Me So\n\nSunday\, October 22  The God of Jesus\n\nSunday\, October 29  In-Justice for All\n\nSunday\, November 5  I Do
X-ALT-DESC;FMTTYPE=text/html:<div>\n<p>People are migrating away from religion at an unprecedented rate&ndash\; Christianity in particular.</p>\n\n<p>Once upon a time\, people believed religion offered solutions. Today\, many people view religion as the problem.</p>\n\n<p>In this 6-part message series\, NHF addresses this tension and sets a foundation for faith that will stand up to the rigors of the real world.&nbsp\;</p>\n\n<p>Come and explore what it means to you\, at 9:30am or 11:00 Celebrations on Sundays at New Horizons Fellowship.&nbsp\;</p>\n\n<p>Sunday\, October 1 &nbsp\;Atheist 2.0</p>\n\n<p>Sunday\, October 8 &nbsp\;Gods of the &ldquo\;No&rdquo\; Testament</p>\n\n<p>Sunday\, October 15 &nbsp\;The Bible Told Me So</p>\n\n<p>Sunday\, October 22 &nbsp\;The God of Jesus</p>\n\n<p>Sunday\, October 29 &nbsp\;In-Justice for All</p>\n\n<p>Sunday\, November 5 &nbsp\;I Do</p>\n\n<div>&nbsp\;</div>\n</div>\n
LOCATION:New Horizons Fellowship 820 E Williams St Apex\, NC 919.303.5266
UID:e.502.5000
SEQUENCE:3
DTSTAMP:20260424T140849Z
URL:https://business.apexchamber.com/events/details/who-needs-god-10-08-2017-5000
END:VEVENT

END:VCALENDAR
