BEGIN:VCALENDAR
VERSION:2.0
PRODID:-//ChamberMaster//Event Calendar 2.0//EN
METHOD:PUBLISH
X-PUBLISHED-TTL:P3D
REFRESH-INTERVAL:P3D
CALSCALE:GREGORIAN
BEGIN:VEVENT
DTSTART:20171027T210000Z
DTEND:20171028T010000Z
X-MICROSOFT-CDO-ALLDAYEVENT:FALSE
SUMMARY:Witches' Night Out
DESCRIPTION:Discounts and promotions available to those who visit shops and restaurants in witch hats on downtown Salem Street!
X-ALT-DESC;FMTTYPE=text/html:Discounts and promotions available to those who visit shops and restaurants in witch hats on downtown Salem Street!
LOCATION:Downtown Salem Street\, Apex
UID:e.502.4982
SEQUENCE:3
DTSTAMP:20260425T183948Z
URL:https://business.apexchamber.com/events/details/witches-night-out-4982
END:VEVENT

END:VCALENDAR
