BEGIN:VCALENDAR
VERSION:2.0
PRODID:-//ChamberMaster//Event Calendar 2.0//EN
METHOD:PUBLISH
X-PUBLISHED-TTL:P3D
REFRESH-INTERVAL:P3D
CALSCALE:GREGORIAN
BEGIN:VEVENT
DTSTART:20180223T133000Z
DTEND:20180223T203000Z
X-MICROSOFT-CDO-ALLDAYEVENT:FALSE
SUMMARY:Work as Worship
DESCRIPTION:"Work as Worship" is a 1-day event being hosted at NHF on Fri\, Feb 23. This is being put on by RightNowMedia with many great speakers to help us all to live out our work as our act of worship. Click below to register.\n\n\n\nhttps://www.workasworshipretreat.org/Registration/?id=317265826
X-ALT-DESC;FMTTYPE=text/html:<span style="background-color:rgb(255\, 255\, 255)\; color:rgb(75\, 79\, 86)\; font-family:helvetica neue\,helvetica\,arial\,sans-serif\; font-size:14px">&quot\;Work as Worship&quot\; is a 1-day event being hosted at NHF on Fri\, Feb 23. This is being put on by RightNowMedia with many great speakers to help us all to live out our work as our act of worship. Click below to register.</span><br />\n<br />\n<a href="https://www.workasworshipretreat.org/Registration/?id=317265826" rel="nofollow" style="color: rgb(54\, 88\, 153)\; cursor: pointer\; text-decoration: none\; font-family: 'Helvetica Neue'\, Helvetica\, Arial\, sans-serif\; font-size: 14px\;" target="_blank"><span style="font-family:inherit">https://</span><span style="font-family:inherit">www.workasworshipretreat.or</span><span style="font-family:inherit">g/Registration/</span>?id=317265826</a>
LOCATION:New Horizons Fellowship 820 E Williams St Apex\, NC 27502 919-303-5266
UID:e.502.5184
SEQUENCE:3
DTSTAMP:20260422T101746Z
URL:https://business.apexchamber.com/events/details/work-as-worship-5184
END:VEVENT

END:VCALENDAR
